BEGIN:VCALENDAR
VERSION:2.0
PRODID:SchoolNow
CALSCALE:GREGORIAN
BEGIN:VEVENT
UID:2bfe88ec-01f3-11f1-9376-0a58a9feac02
DTSTAMP:20260424T124007Z
SUMMARY:MVMS - Boys Basketball vs Obsidian
LOCATION:Obsidian
URL;VALUE=URI:https://www.kvusd.org/schools/mvms/calendar/8849351/mvms-boys
 -basketball-vs-obsidian
DTSTART:20260212T003000Z
DTEND:20260212T033000Z
END:VEVENT
END:VCALENDAR
