BEGIN:VCALENDAR
VERSION:2.0
PRODID:SchoolNow
CALSCALE:GREGORIAN
BEGIN:VEVENT
UID:2bfe863a-01f3-11f1-af1a-0a58a9feac02
DTSTAMP:20260424T124007Z
SUMMARY:MVMS - Softball Tryouts
URL;VALUE=URI:https://www.kvusd.org/schools/mvms/calendar/8849348/mvms-soft
 ball-tryouts
DTSTART:20260224T233000Z
DTEND:20260225T013000Z
END:VEVENT
END:VCALENDAR
