BEGIN:VCALENDAR
VERSION:2.0
PRODID:SchoolNow
CALSCALE:GREGORIAN
BEGIN:VEVENT
UID:2bfe820c-01f3-11f1-ac50-0a58a9feac02
DTSTAMP:20260424T124007Z
SUMMARY:MVMS - Valentine Spirit Week
URL;VALUE=URI:https://www.kvusd.org/schools/mvms/calendar/8849344/mvms-vale
 ntine-spirit-week
DTSTART;VALUE=DATE:20260209
DTEND;VALUE=DATE:20260214
END:VEVENT
END:VCALENDAR
