BEGIN:VCALENDAR
VERSION:2.0
PRODID:SchoolNow
CALSCALE:GREGORIAN
BEGIN:VEVENT
UID:2bfe80fe-01f3-11f1-aa80-0a58a9feac02
DTSTAMP:20260424T124007Z
SUMMARY:MVMS - 8th Grade Parent Meeting
LOCATION:MVMS Library
URL;VALUE=URI:https://www.kvusd.org/schools/mvms/calendar/8849343/mvms-8th-
 grade-parent-meeting
DTSTART:20260206T013000Z
DTEND:20260206T023000Z
END:VEVENT
END:VCALENDAR
