BEGIN:VCALENDAR
VERSION:2.0
PRODID:SchoolNow
CALSCALE:GREGORIAN
BEGIN:VEVENT
UID:2bfe8018-01f3-11f1-9a07-0a58a9feac02
DTSTAMP:20260424T124007Z
SUMMARY:MVMS - Boys Basketball A Team Only Crescent City Tournament
LOCATION:Crescent City
URL;VALUE=URI:https://www.kvusd.org/schools/mvms/calendar/8849342/mvms-boys
 -basketball-a-team-only-crescent-city-tournament
DTSTART;VALUE=DATE:20260306
DTEND;VALUE=DATE:20260308
END:VEVENT
END:VCALENDAR
