BEGIN:VCALENDAR
VERSION:2.0
PRODID:SchoolNow
CALSCALE:GREGORIAN
BEGIN:VEVENT
UID:2bfe7f28-01f3-11f1-9a7a-0a58a9feac02
DTSTAMP:20260424T124007Z
SUMMARY:MVMS - Boys Basketball vs Lucerne
LOCATION:Home
URL;VALUE=URI:https://www.kvusd.org/schools/mvms/calendar/8849341/mvms-boys
 -basketball-vs-lucerne
DTSTART:20260224T003000Z
DTEND:20260224T033000Z
END:VEVENT
END:VCALENDAR
