BEGIN:VCALENDAR
VERSION:2.0
PRODID:SchoolNow
CALSCALE:GREGORIAN
BEGIN:VEVENT
UID:2bfe7cd0-01f3-11f1-a1ec-0a58a9feac02
DTSTAMP:20260424T124007Z
SUMMARY:MVMS - Softball Tryouts
URL;VALUE=URI:https://www.kvusd.org/schools/mvms/calendar/8849339/mvms-soft
 ball-tryouts
DTSTART:20260223T233000Z
DTEND:20260224T013000Z
END:VEVENT
END:VCALENDAR
