BEGIN:VCALENDAR
VERSION:2.0
PRODID:SchoolNow
CALSCALE:GREGORIAN
BEGIN:VEVENT
UID:2bfe7b54-01f3-11f1-a5c5-0a58a9feac02
DTSTAMP:20260424T124007Z
SUMMARY:MVMS - 6th\, 7th\, & 8th Grade Valentine Dance
LOCATION:MVMS Gym
URL;VALUE=URI:https://www.kvusd.org/schools/mvms/calendar/8849338/mvms-6th-
 7th-8th-grade-valentine-dance
DTSTART:20260214T020000Z
DTEND:20260214T040000Z
END:VEVENT
END:VCALENDAR
