BEGIN:VCALENDAR
VERSION:2.0
PRODID:SchoolNow
CALSCALE:GREGORIAN
BEGIN:VEVENT
UID:2bfe5b7e-01f3-11f1-a30c-0a58a9feac02
DTSTAMP:20260424T124007Z
SUMMARY:MVMS - Boys Basketball vs Upper Lake
LOCATION:Home
URL;VALUE=URI:https://www.kvusd.org/schools/mvms/calendar/8849337/mvms-boys
 -basketball-vs-upper-lake
DTSTART:20260210T003000Z
DTEND:20260210T033000Z
END:VEVENT
END:VCALENDAR
